BEGIN:VCALENDAR
VERSION:2.0
PRODID:-//Burnaby Neighbourhood House - ECPv6.15.18//NONSGML v1.0//EN
CALSCALE:GREGORIAN
METHOD:PUBLISH
X-WR-CALNAME:Burnaby Neighbourhood House
X-ORIGINAL-URL:https://burnabynh.ca
X-WR-CALDESC:Events for Burnaby Neighbourhood House
REFRESH-INTERVAL;VALUE=DURATION:PT1H
X-Robots-Tag:noindex
X-PUBLISHED-TTL:PT1H
BEGIN:VTIMEZONE
TZID:America/Vancouver
BEGIN:DAYLIGHT
TZOFFSETFROM:-0800
TZOFFSETTO:-0700
TZNAME:PDT
DTSTART:20250309T100000
END:DAYLIGHT
BEGIN:STANDARD
TZOFFSETFROM:-0700
TZOFFSETTO:-0800
TZNAME:PST
DTSTART:20251102T090000
END:STANDARD
BEGIN:DAYLIGHT
TZOFFSETFROM:-0800
TZOFFSETTO:-0700
TZNAME:PDT
DTSTART:20260308T100000
END:DAYLIGHT
BEGIN:STANDARD
TZOFFSETFROM:-0700
TZOFFSETTO:-0800
TZNAME:PST
DTSTART:20261101T090000
END:STANDARD
BEGIN:DAYLIGHT
TZOFFSETFROM:-0800
TZOFFSETTO:-0700
TZNAME:PDT
DTSTART:20270314T100000
END:DAYLIGHT
BEGIN:STANDARD
TZOFFSETFROM:-0700
TZOFFSETTO:-0800
TZNAME:PST
DTSTART:20271107T090000
END:STANDARD
END:VTIMEZONE
BEGIN:VEVENT
DTSTART;TZID=America/Vancouver:20260423T093000
DTEND;TZID=America/Vancouver:20260423T113000
DTSTAMP:20260423T012129
CREATED:20260204T185247Z
LAST-MODIFIED:20260204T215649Z
UID:10000157-1776936600-1776943800@burnabynh.ca
SUMMARY:Family Drop-in Program
DESCRIPTION:Locations and Time: \nBNH South House\nMondays – 9:30 am – 11:30 am\nTuesdays – 9:30 am – 11:30 am\nWednesdays – 9:30am – 11:30 am\nThursdays – 9:30 am – 11:30 am \nBrentwood House\nTuesdays – 12:30 pm – 2:30 pm\nThursdays – 10 am – 12 pm\nFridays – 9:30 am – 11:30 am \nProgram Description: We offer a number of Family Drop-in programs throughout the community for parents/caregivers with children 0-5 years. Family drop-ins provide a variety of opportunities for families to socialize\, to have a safe and fun place to play and learn and to get parenting information \nRegister Info: Drop in \nClick here to view or download the poster
URL:https://burnabynh.ca/event/family-drop-in-program-2/2026-04-23/
LOCATION:BNH South House\, 100 – 4460 Beresford St\,\, Burnaby\, British Columbia\, V5H 0B8\, Canada
CATEGORIES:Family
ATTACH;FMTTYPE=image/webp:https://burnabynh.ca/wp-content/uploads/2025/11/BCS-Family-Place-Poster.webp
END:VEVENT
BEGIN:VEVENT
DTSTART;TZID=America/Vancouver:20260423T100000
DTEND;TZID=America/Vancouver:20260423T120000
DTSTAMP:20260423T012129
CREATED:20260204T190214Z
LAST-MODIFIED:20260204T220208Z
UID:10001071-1776938400-1776945600@burnabynh.ca
SUMMARY:Family Drop-in Program
DESCRIPTION:Locations and Time: \nBNH South House\nMondays – 9:30 am – 11:30 am\nTuesdays – 9:30 am – 11:30 am\nWednesdays – 9:30am – 11:30 am\nThursdays – 9:30 am – 11:30 am \nBrentwood House\nTuesdays – 12:30 pm – 2:30 pm\nThursdays – 10 am – 12 pm\nFridays – 9:30 am – 11:30 am \nProgram Description: We offer a number of Family Drop-in programs throughout the community for parents/caregivers with children 0-5 years. Family drop-ins provide a variety of opportunities for families to socialize\, to have a safe and fun place to play and learn and to get parenting information \nRegister Info: Drop in \nClick here to view or download the poster
URL:https://burnabynh.ca/event/family-drop-in-program-4/2026-04-23/
LOCATION:Brentwood\, 2055 Rosser Avenue\, Burnaby\, British Columbia\, V5C 5Y1\, Canada
CATEGORIES:Family
ATTACH;FMTTYPE=image/webp:https://burnabynh.ca/wp-content/uploads/2025/11/BCS-Family-Place-Poster.webp
END:VEVENT
BEGIN:VEVENT
DTSTART;TZID=America/Vancouver:20260423T100000
DTEND;TZID=America/Vancouver:20260423T140000
DTSTAMP:20260423T012129
CREATED:20260204T225401Z
LAST-MODIFIED:20260211T214233Z
UID:10001498-1776938400-1776952800@burnabynh.ca
SUMMARY:Therapeutic Activation Program for Seniors (TAPS)
DESCRIPTION:A low-cost\, day program for Burnaby seniors. Participants enjoy a day of therapeutic activities based on their health needs\, including a warm\, nutritious lunch\, exercise\, brain games\, educational workshops\, and more! \n*Cost: $7 for lunch \nProgram Time: Thursdays 10am-2pm \nProgram Location: BNH Community Hall \nTo Register: contact Lea at leak@burnabynh.ca or 236.668.1712 \nView Poster
URL:https://burnabynh.ca/event/therapeutic-activation-program-for-seniors-taps-2/2026-04-23/
LOCATION:BNH Community Hall\, 5024 Rumble Street\,\, BC\, BC V5J 2B4\, Canada
CATEGORIES:Seniors
ATTACH;FMTTYPE=application/pdf:https://burnabynh.ca/wp-content/uploads/2026/02/Thu-TAPS-Poster-updated-2026.pdf
END:VEVENT
BEGIN:VEVENT
DTSTART;TZID=America/Vancouver:20260423T130000
DTEND;TZID=America/Vancouver:20260423T150000
DTSTAMP:20260423T012129
CREATED:20260204T230434Z
LAST-MODIFIED:20260204T230434Z
UID:10001615-1776949200-1776956400@burnabynh.ca
SUMMARY:Community Cafe
DESCRIPTION:A community café is a social gathering space where people come together to enjoy food\, drink\, and each other’s company\, and play board games. These cafes are more than just places to eat; they serve as hubs for social interaction\, support\, and engagement within the local area.
URL:https://burnabynh.ca/event/community-cafe-2/2026-04-23/
LOCATION:BNH South House\, 100 – 4460 Beresford St\,\, Burnaby\, British Columbia\, V5H 0B8\, Canada
CATEGORIES:Community Program
ATTACH;FMTTYPE=image/webp:https://burnabynh.ca/wp-content/uploads/2025/11/Community-Cafe.png
END:VEVENT
BEGIN:VEVENT
DTSTART;TZID=America/Vancouver:20260423T150000
DTEND;TZID=America/Vancouver:20260423T170000
DTSTAMP:20260423T012129
CREATED:20260204T231432Z
LAST-MODIFIED:20260204T231432Z
UID:10001746-1776956400-1776963600@burnabynh.ca
SUMMARY:Digital Cafe Program
DESCRIPTION:Learn to use technology with confidence. Our amazing volunteers can help you with email\, online forms\, internet browsing\, online safety\, and more. Volunteer Computer Instructors are available to help with your computer learning needs\, offering support in multiple languages. 
URL:https://burnabynh.ca/event/digital-cafe-program-3/2026-04-23/
LOCATION:BNH South House\, 100 – 4460 Beresford St\,\, Burnaby\, British Columbia\, V5H 0B8\, Canada
CATEGORIES:Digital Cafe Program
ATTACH;FMTTYPE=application/pdf:https://burnabynh.ca/wp-content/uploads/2025/11/DLEP-Poster-2-1.pdf
END:VEVENT
END:VCALENDAR